BEGIN:VCALENDAR
VERSION:2.0
PRODID:-//YOGA NEBULA - ECPv6.15.20//NONSGML v1.0//EN
CALSCALE:GREGORIAN
METHOD:PUBLISH
X-ORIGINAL-URL:https://yoganebula.com/hatha
X-WR-CALDESC:Events for YOGA NEBULA
REFRESH-INTERVAL;VALUE=DURATION:PT1H
X-Robots-Tag:noindex
X-PUBLISHED-TTL:PT1H
BEGIN:VTIMEZONE
TZID:America/New_York
BEGIN:DAYLIGHT
TZOFFSETFROM:-0500
TZOFFSETTO:-0400
TZNAME:EDT
DTSTART:20170312T070000
END:DAYLIGHT
BEGIN:STANDARD
TZOFFSETFROM:-0400
TZOFFSETTO:-0500
TZNAME:EST
DTSTART:20171105T060000
END:STANDARD
BEGIN:DAYLIGHT
TZOFFSETFROM:-0500
TZOFFSETTO:-0400
TZNAME:EDT
DTSTART:20180311T070000
END:DAYLIGHT
BEGIN:STANDARD
TZOFFSETFROM:-0400
TZOFFSETTO:-0500
TZNAME:EST
DTSTART:20181104T060000
END:STANDARD
BEGIN:DAYLIGHT
TZOFFSETFROM:-0500
TZOFFSETTO:-0400
TZNAME:EDT
DTSTART:20190310T070000
END:DAYLIGHT
BEGIN:STANDARD
TZOFFSETFROM:-0400
TZOFFSETTO:-0500
TZNAME:EST
DTSTART:20191103T060000
END:STANDARD
BEGIN:DAYLIGHT
TZOFFSETFROM:-0500
TZOFFSETTO:-0400
TZNAME:EDT
DTSTART:20200308T070000
END:DAYLIGHT
BEGIN:STANDARD
TZOFFSETFROM:-0400
TZOFFSETTO:-0500
TZNAME:EST
DTSTART:20201101T060000
END:STANDARD
BEGIN:DAYLIGHT
TZOFFSETFROM:-0500
TZOFFSETTO:-0400
TZNAME:EDT
DTSTART:20210314T070000
END:DAYLIGHT
BEGIN:STANDARD
TZOFFSETFROM:-0400
TZOFFSETTO:-0500
TZNAME:EST
DTSTART:20211107T060000
END:STANDARD
BEGIN:DAYLIGHT
TZOFFSETFROM:-0500
TZOFFSETTO:-0400
TZNAME:EDT
DTSTART:20220313T070000
END:DAYLIGHT
BEGIN:STANDARD
TZOFFSETFROM:-0400
TZOFFSETTO:-0500
TZNAME:EST
DTSTART:20221106T060000
END:STANDARD
BEGIN:DAYLIGHT
TZOFFSETFROM:-0500
TZOFFSETTO:-0400
TZNAME:EDT
DTSTART:20230312T070000
END:DAYLIGHT
BEGIN:STANDARD
TZOFFSETFROM:-0400
TZOFFSETTO:-0500
TZNAME:EST
DTSTART:20231105T060000
END:STANDARD
BEGIN:DAYLIGHT
TZOFFSETFROM:-0500
TZOFFSETTO:-0400
TZNAME:EDT
DTSTART:20240310T070000
END:DAYLIGHT
BEGIN:STANDARD
TZOFFSETFROM:-0400
TZOFFSETTO:-0500
TZNAME:EST
DTSTART:20241103T060000
END:STANDARD
BEGIN:DAYLIGHT
TZOFFSETFROM:-0500
TZOFFSETTO:-0400
TZNAME:EDT
DTSTART:20250309T070000
END:DAYLIGHT
BEGIN:STANDARD
TZOFFSETFROM:-0400
TZOFFSETTO:-0500
TZNAME:EST
DTSTART:20251102T060000
END:STANDARD
BEGIN:DAYLIGHT
TZOFFSETFROM:-0500
TZOFFSETTO:-0400
TZNAME:EDT
DTSTART:20260308T070000
END:DAYLIGHT
BEGIN:STANDARD
TZOFFSETFROM:-0400
TZOFFSETTO:-0500
TZNAME:EST
DTSTART:20261101T060000
END:STANDARD
BEGIN:DAYLIGHT
TZOFFSETFROM:-0500
TZOFFSETTO:-0400
TZNAME:EDT
DTSTART:20270314T070000
END:DAYLIGHT
BEGIN:STANDARD
TZOFFSETFROM:-0400
TZOFFSETTO:-0500
TZNAME:EST
DTSTART:20271107T060000
END:STANDARD
END:VTIMEZONE
BEGIN:VEVENT
DTSTART;TZID=America/New_York:20260418T170000
DTEND;TZID=America/New_York:20260418T210000
DTSTAMP:20260423T135417
CREATED:20220728T203804Z
LAST-MODIFIED:20260115T011429Z
UID:57709-1776531600-1776546000@yoganebula.com
SUMMARY:Review: Yogasanas
DESCRIPTION:What is sadhana\, and what role does it play on the spiritual path? Sadhguru answers this question. \nSadhguru: When we say sadhana[1]\, we are not talking about any particular aspect. We are talking about using every aspect of life – both internal and external – so that it is a continuous nurturing for your life. Because the very nature of a human being is such\, unless there is some dynamism\, some movement in his life towards betterment within and outside of himself\, he will feel frustrated. He has to keep moving to a newer and newer possibility. Sadhana is that which facilitates that. \nEverything can be sadhana. The way you eat\, the way you sit\, the way you stand\, the way you breathe\, the way you conduct your body\, mind and your energies and emotions – this is sadhana. Sadhana does not mean any specific kind of activity\, sadhana means you are using everything as a tool for your wellbeing…[more] \n  \n****************\nSatsang means ultimate life sense. To be in communion with this ultimate life sense is of utmost significance to your existence. \nSATSANG >>>
URL:https://yoganebula.com/hatha/event/yogasanas-review/
LOCATION:Hillsborough\, Opposite Country Classics Fields\, Hillsborough\, NJ\, 08844\, United States
CATEGORIES:In_Person,New Jersey,Practice Session,Yogasanas
ATTACH;FMTTYPE=image/jpeg:https://yoganebula.com/hatha/wp-content/uploads/2017/12/yoga-e1513352032694.jpg
END:VEVENT
BEGIN:VEVENT
DTSTART;TZID=America/New_York:20250913T083000
DTEND;TZID=America/New_York:20250914T203000
DTSTAMP:20260423T135417
CREATED:20210202T044441Z
LAST-MODIFIED:20250911T183649Z
UID:30650-1757752200-1757881800@yoganebula.com
SUMMARY:Yogasanas in New Jersey
DESCRIPTION:Must REGISTER before Aug-10-2025 \nThe word asana literally means a posture. Out of the innumerable asanas a body can assume\, 84 have been identified as Yogasanas\, through which one can transform the body and mind into a possibility for ultimate well-being. Yogasanas are not exercises\, but rather very subtle processes to manipulate one’s energy in a particular direction. \nIn an untrained state\, the human body is a constant manifestation of various levels of compulsiveness. By consciously forming the body into a certain posture\, one creates a conducive passage for energy flow that can elevate one’s consciousness. Yogasanas are a way of aligning the inner system and adjusting it to the celestial geometry\, thereby becoming in sync with the existence and naturally achieving a chemistry of healthfulness\, joyfulness\, blissfulness\, and above all\, balance. \nIsha teaches a select set of 21 Yogasanas\, which provide countless benefits including:\n Relief of chronic health conditions \n Evolution of body and mind towards a higher possibility \n Stabilization of the body\, mind\, and energy system \n Deceleration of the aging process \n  \nAge: 14yrs + \nEmpty Stomach Conditions:\nDue to the nature of the practices\, please ensure you finish : \n\nany heavy meal at least 4 hrs before the class\nsnack 2.5 hrs before\, &\nbeverage atleast 1.5 hrs before the session.\n\n  \nYou can watch video about Yogasanas here>>
URL:https://yoganebula.com/hatha/event/yogasanas-isha-hatha/
LOCATION:Hillsborough\, Opposite Country Classics Fields\, Hillsborough\, NJ\, 08844\, United States
CATEGORIES:New Jersey,Workshop,Yogasanas
ATTACH;FMTTYPE=image/jpeg:https://yoganebula.com/hatha/wp-content/uploads/2024/06/Yogasanas.jpg
END:VEVENT
BEGIN:VEVENT
DTSTART;TZID=America/New_York:20210619T080000
DTEND;TZID=America/New_York:20210619T093000
DTSTAMP:20260423T135417
CREATED:20210523T164522Z
LAST-MODIFIED:20210523T164912Z
UID:36251-1624089600-1624095000@yoganebula.com
SUMMARY:Guided Practice - Yogasanas
DESCRIPTION:Pre-Requisite : YOGASANAS taught by Isha Foundation or Isha Hatha Yoga Teacher.\nLocation: Hillsborough\, New Jersey 08844\nTimings:  Check-in : 7:30am\nSession : 8:00am – 9:30am \nAge: 14yrs + \nYour seat is confirmed once we have received the Registration + Payment. \nEmpty Stomach Conditions: \nDue to the nature of the practices\, please ensure you finish : \n\nany heavy meal at least 4 hrs before the class\nsnack 2.5 hrs before\, &\nbeverage atleast 1.5 hrs before the session.\n\n  \nDue to the nature of this practice\, there are some precautions. People who fall under any of the below categories are not eligible to participate at this time \n\nWomen who are currently pregnant\nAnyone who has had a major open surgery in the last 6 months\nAnyone who has had laproscopic surgery within the last 6 weeks\n\nAs a general note\, always consult and follow your doctor’s advice. If you have any questions regarding your participation\, please email contact @ yoganebula.com \nLearn all about Yogasanas here >> \n  \n[vfb id=’40’]
URL:https://yoganebula.com/hatha/event/yogasanas-guided-practice-outdoors/
LOCATION:NJ
CATEGORIES:New Jersey,Workshop,Yogasanas
END:VEVENT
BEGIN:VEVENT
DTSTART;TZID=America/New_York:20200613T070000
DTEND;TZID=America/New_York:20200614T200000
DTSTAMP:20260423T135417
CREATED:20200226T211628Z
LAST-MODIFIED:20200412T151136Z
UID:13557-1592031600-1592164800@yoganebula.com
SUMMARY:Yogasanas in New Jersey
DESCRIPTION:The word asana literally means a posture. Out of the innumerable asanas a body can assume\, 84 have been identified as Yogasanas\, through which one can transform the body and mind into a possibility for ultimate well-being. Yogasanas are not exercises\, but rather very subtle processes to manipulate one’s energy in a particular direction. \nIn an untrained state\, the human body is a constant manifestation of various levels of compulsiveness. By consciously forming the body into a certain posture\, one creates a conducive passage for energy flow that can elevate one’s consciousness. Yogasanas are a way of aligning the inner system and adjusting it to the celestial geometry\, thereby becoming in sync with the existence and naturally achieving a chemistry of healthfulness\, joyfulness\, blissfulness\, and above all\, balance. \nIsha teaches a select set of 21 Yogasanas\, which provide countless benefits including:\n Relief of chronic health conditions \n Evolution of body and mind towards a higher possibility \n Stabilization of the body\, mind\, and energy system \n Deceleration of the aging process \n  \nAge: 14yrs + \n\nREVIEW & RETAKE is for those who have already done Isha Yogasana before.\nYogasanas RETAKE:\nIncase you have not been practicing Yogasanas regularly then this class is best for you to attend.\nFee: $100.00\nYogasanas REVIEW:\nIf you have been practicing regularly & wish to fine tune your practice then this class will be great for you.\nFee: $50.00\n\nEmpty Stomach Conditions:\nDue to the nature of the practices\, please ensure you finish : \n\nany heavy meal at least 4 hrs before the class\nsnack 2.5 hrs before\, &\nbeverage atleast 1.5 hrs before the session.\n\n  \nYou can watch video about Yogasanas here>>
URL:https://yoganebula.com/hatha/event/yogasanas-new-jersey/
LOCATION:Hillsborough\, Opposite Country Classics Fields\, Hillsborough\, NJ\, 08844\, United States
CATEGORIES:New Jersey,Workshop,Yogasanas
END:VEVENT
BEGIN:VEVENT
DTSTART;TZID=America/New_York:20200125T120000
DTEND;TZID=America/New_York:20200125T140000
DTSTAMP:20260423T135417
CREATED:20200116T013344Z
LAST-MODIFIED:20200116T013902Z
UID:11443-1579953600-1579960800@yoganebula.com
SUMMARY:Yogasanas Guided Practice
DESCRIPTION:Pre-Requisite : YOGASANAS taught by Isha Foundation or Isha Hatha Yoga Teacher.\nLocation: Hillsborough\, New Jersey 08844\nTimings:  Check-in : 11:30am\nSession : 12:00pm – 2:00pm \nAge: 14yrs + \nYour seat is confirmed once we have received the Registration + Payment. \nEmpty Stomach Conditions: \nDue to the nature of the practices\, please ensure you finish : \n\nany heavy meal at least 4 hrs before the class\nsnack 2.5 hrs before\, &\nbeverage atleast 1.5 hrs before the session.\n\n  \nDue to the nature of this practice\, there are some precautions. People who fall under any of the below categories are not eligible to participate at this time \n\nWomen who are currently pregnant\nAnyone who has had a major open surgery in the last 6 months\nAnyone who has had laproscopic surgery within the last 6 weeks\n\nAs a general note\, always consult and follow your doctor’s advice. If you have any questions regarding your participation\, please email contact @ yoganebula.com \nLearn all about Yogasanas here >> \n  \n[vfb id=’40’]
URL:https://yoganebula.com/hatha/event/yogasanas-guided-practice/
LOCATION:Hillsborough\, Opposite Country Classics Fields\, Hillsborough\, NJ\, 08844\, United States
CATEGORIES:New Jersey,Workshop,Yogasanas
END:VEVENT
BEGIN:VEVENT
DTSTART;TZID=America/New_York:20180224T083000
DTEND;TZID=America/New_York:20180225T190000
DTSTAMP:20260423T135417
CREATED:20171203T175405Z
LAST-MODIFIED:20180218T135603Z
UID:3073-1519461000-1519585200@yoganebula.com
SUMMARY:Learn Yogasanas or Review
DESCRIPTION:The word asana literally means a posture. Out of the innumerable asanas a body can assume\, 84 have been identified as Yogasanas\, through which one can transform the body and mind into a possibility for ultimate well-being. Yogasanas are not exercises\, but rather very subtle processes to manipulate one’s energy in a particular direction. \nIn an untrained state\, the human body is a constant manifestation of various levels of compulsiveness. By consciously forming the body into a certain posture\, one creates a conducive passage for energy flow that can elevate one’s consciousness. Yogasanas are a way of aligning the inner system and adjusting it to the celestial geometry\, thereby becoming in sync with the existence and naturally achieving a chemistry of healthfulness\, joyfulness\, blissfulness\, and above all\, balance. \nIsha teaches a select set of 21 Yogasanas\, which provide countless benefits including:\n Relief of chronic health conditions \n Evolution of body and mind towards a higher possibility \n Stabilization of the body\, mind\, and energy system \n Deceleration of the aging process \n  \nAge: 14yrs + \n  \n\nFEE : $150 each when two people register together.\nREVIEW & RETAKE is for those who have already done Isha Yogasana before.\nYogasanas RETAKE:\nIncase you have not been practicing Yogasanas regularly then this class is best for you to attend.\nFee: $100.00\nYogasanas REVIEW:\nIf you have been practicing regularly & wish to fine tune your practice then this class will be great for you.\nFee: $50.00\n\nEmpty Stomach Conditions:\nDue to the nature of the practices\, please ensure you finish : \n\nany heavy meal at least 4 hrs before the class\nsnack 2.5 hrs before\, &\nbeverage atleast 1.5 hrs before the session.\n\n  \nYou can watch video about Yogasanas here>>
URL:https://yoganebula.com/hatha/event/nyc-yogasanas/
LOCATION:Lucid Body House – New York City\, 230 Lexington Ave\, New York\, NY\, 10016\, United States
CATEGORIES:New York,Workshop,Yogasanas
END:VEVENT
BEGIN:VEVENT
DTSTART;TZID=America/New_York:20180127T083000
DTEND;TZID=America/New_York:20180127T200000
DTSTAMP:20260423T135417
CREATED:20171213T231357Z
LAST-MODIFIED:20180117T135819Z
UID:3178-1517041800-1517083200@yoganebula.com
SUMMARY:Learn Yogasanas Or Review
DESCRIPTION:The word asana literally means a posture. Out of the innumerable asanas a body can assume\, 84 have been identified as Yogasanas\, through which one can transform the body and mind into a possibility for ultimate well-being. Yogasanas are not exercises\, but rather very subtle processes to manipulate one’s energy in a particular direction. \nIn an untrained state\, the human body is a constant manifestation of various levels of compulsiveness. By consciously forming the body into a certain posture\, one creates a conducive passage for energy flow that can elevate one’s consciousness. Yogasanas are a way of aligning the inner system and adjusting it to the celestial geometry\, thereby becoming in sync with the existence and naturally achieving a chemistry of healthfulness\, joyfulness\, blissfulness\, and above all\, balance. \nIsha teaches a select set of 21 Yogasanas\, which provide countless benefits including:\n Relief of chronic health conditions \n Evolution of body and mind towards a higher possibility \n Stabilization of the body\, mind\, and energy system \n Deceleration of the aging process \n  \nAge: 14yrs + \n\nREVIEW & RETAKE is for those who have already done Isha Yogasana before.\nYogasanas RETAKE:\nIncase you have not been practicing Yogasanas regularly then this class is best for you to attend.\nFee: $100.00\nYogasanas REVIEW:\nIf you have been practicing regularly & wish to fine tune your practice then this class will be great for you.\nFee: $50.00\n\nEmpty Stomach Conditions:\nDue to the nature of the practices\, please ensure you finish : \n\nany heavy meal at least 4 hrs before the class\nsnack 2.5 hrs before\, &\nbeverage atleast 1.5 hrs before the session.\n\n  \nYou can watch video about Yogasanas here>>
URL:https://yoganebula.com/hatha/event/new-jersey-yogasanas/
LOCATION:Holiday Inn – New Jersey\, 4701 Stelton Rd\, South Plainfield\, NJ\, 07080\, United States
CATEGORIES:Inner Well-Being,New Jersey,Workshop,Yogasanas
END:VEVENT
END:VCALENDAR