BEGIN:VCALENDAR
VERSION:2.0
PRODID:-//YOGA NEBULA - ECPv6.15.20//NONSGML v1.0//EN
CALSCALE:GREGORIAN
METHOD:PUBLISH
X-ORIGINAL-URL:https://yoganebula.com/hatha
X-WR-CALDESC:Events for YOGA NEBULA
REFRESH-INTERVAL;VALUE=DURATION:PT1H
X-Robots-Tag:noindex
X-PUBLISHED-TTL:PT1H
BEGIN:VTIMEZONE
TZID:America/New_York
BEGIN:DAYLIGHT
TZOFFSETFROM:-0500
TZOFFSETTO:-0400
TZNAME:EDT
DTSTART:20230312T070000
END:DAYLIGHT
BEGIN:STANDARD
TZOFFSETFROM:-0400
TZOFFSETTO:-0500
TZNAME:EST
DTSTART:20231105T060000
END:STANDARD
BEGIN:DAYLIGHT
TZOFFSETFROM:-0500
TZOFFSETTO:-0400
TZNAME:EDT
DTSTART:20240310T070000
END:DAYLIGHT
BEGIN:STANDARD
TZOFFSETFROM:-0400
TZOFFSETTO:-0500
TZNAME:EST
DTSTART:20241103T060000
END:STANDARD
BEGIN:DAYLIGHT
TZOFFSETFROM:-0500
TZOFFSETTO:-0400
TZNAME:EDT
DTSTART:20250309T070000
END:DAYLIGHT
BEGIN:STANDARD
TZOFFSETFROM:-0400
TZOFFSETTO:-0500
TZNAME:EST
DTSTART:20251102T060000
END:STANDARD
END:VTIMEZONE
BEGIN:VEVENT
DTSTART;TZID=America/New_York:20240828T080000
DTEND;TZID=America/New_York:20240901T170000
DTSTAMP:20260424T120924
CREATED:20240220T013338Z
LAST-MODIFIED:20240528T145515Z
UID:85938-1724832000-1725210000@yoganebula.com
SUMMARY:Retreat in Tulum\, Mexico
DESCRIPTION:Please visit https://quickcalmgetaway.com/ for details. \nSCHEDULE \n\nArrival: Participants are expected to arrive on August 29th\, with flexibility for any time of day.\nSession Days: Intensive yoga sessions and activities scheduled for August 30th\, August 31st\, and September 1st.\nDeparture: Participants can plan their departures for September 2nd\, allowing for travel flexibility.\n\n  \nAll Inclusive Pricing Package\n\nAll Inclusive Pricing covers the following:\n\nUpon arrival at Cancún International Airport\, we will take care of all transportation needs.\nLodging at our serene retreat location.\nAll vegetarian/vegan meals\, providing nutritious and balanced options.\nAccess to all yoga workshops and sessions.\nMaterials related to the yoga workshop\, including guidelines for meditation.\nComplimentary inclusion of powerful 7 sessions focused on inner transformation.\nParticipation in two additional ceremonies designed to enrich the retreat experience.\n\n\nNote: Participants are expected to book their return flights to/from Cancún International Airport.\n\n  \nPlease visit https://quickcalmgetaway.com/ for details.
URL:https://yoganebula.com/hatha/event/retreat-tulum-mexico/
LOCATION:Tulum\, Mexico\, Mexico
CATEGORIES:New Jersey,New York,Workshop,Yoga & Meditation Retreat
ATTACH;FMTTYPE=image/png:https://yoganebula.com/hatha/wp-content/uploads/2024/02/retreat.png
END:VEVENT
END:VCALENDAR