BEGIN:VCALENDAR
VERSION:2.0
PRODID:-//YOGA NEBULA - ECPv6.15.20//NONSGML v1.0//EN
CALSCALE:GREGORIAN
METHOD:PUBLISH
X-WR-CALNAME:YOGA NEBULA
X-ORIGINAL-URL:https://yoganebula.com/hatha
X-WR-CALDESC:Events for YOGA NEBULA
REFRESH-INTERVAL;VALUE=DURATION:PT1H
X-Robots-Tag:noindex
X-PUBLISHED-TTL:PT1H
BEGIN:VTIMEZONE
TZID:America/New_York
BEGIN:DAYLIGHT
TZOFFSETFROM:-0500
TZOFFSETTO:-0400
TZNAME:EDT
DTSTART:20250309T070000
END:DAYLIGHT
BEGIN:STANDARD
TZOFFSETFROM:-0400
TZOFFSETTO:-0500
TZNAME:EST
DTSTART:20251102T060000
END:STANDARD
BEGIN:DAYLIGHT
TZOFFSETFROM:-0500
TZOFFSETTO:-0400
TZNAME:EDT
DTSTART:20260308T070000
END:DAYLIGHT
BEGIN:STANDARD
TZOFFSETFROM:-0400
TZOFFSETTO:-0500
TZNAME:EST
DTSTART:20261101T060000
END:STANDARD
BEGIN:DAYLIGHT
TZOFFSETFROM:-0500
TZOFFSETTO:-0400
TZNAME:EDT
DTSTART:20270314T070000
END:DAYLIGHT
BEGIN:STANDARD
TZOFFSETFROM:-0400
TZOFFSETTO:-0500
TZNAME:EST
DTSTART:20271107T060000
END:STANDARD
END:VTIMEZONE
BEGIN:VEVENT
DTSTART;TZID=America/New_York:20260321T083000
DTEND;TZID=America/New_York:20260321T203000
DTSTAMP:20260423T150850
CREATED:20230404T011249Z
LAST-MODIFIED:20260316T054209Z
UID:69983-1774081800-1774125000@yoganebula.com
SUMMARY:Surya Kriya - Balance & Clarity
DESCRIPTION:Please register before Dec-12th as seats are limited.\n\n\nOnce you register\, you would receive an email to complete the next steps.\n\nOnce the registrations & the next steps are completed\, the registration will be considered confirmed.\n\n\n\nSurya Kriya is a potent yogic practice of tremendous antiquity\, designed as a holistic process for health\, wellness\, and complete inner well-being.[more] Surya Kriya includes several aspects that enrich one’s life: \n\nDevelops mental clarity and focus\nRemedies weak constitutions\nBoosts vigor and vitality\nBalances hormonal levels in the body\nPrepares one for deeper states of meditation\n\nPractice Requirements \n\nSuitable for ages 14+\nMedium-level intensity\nNo experience of yoga necessary
URL:https://yoganebula.com/hatha/event/surya-kriya-balance-strength/
LOCATION:Hillsborough\, Opposite Country Classics Fields\, Hillsborough\, NJ\, 08844\, United States
CATEGORIES:In_Person,New Jersey,Surya Kriya
ATTACH;FMTTYPE=image/jpeg:https://yoganebula.com/hatha/wp-content/uploads/2024/06/Surya-Kriya-with-text.jpg
END:VEVENT
END:VCALENDAR