BEGIN:VCALENDAR
VERSION:2.0
PRODID:-//YOGA NEBULA - ECPv6.15.20//NONSGML v1.0//EN
CALSCALE:GREGORIAN
METHOD:PUBLISH
X-WR-CALNAME:YOGA NEBULA
X-ORIGINAL-URL:https://yoganebula.com/hatha
X-WR-CALDESC:Events for YOGA NEBULA
REFRESH-INTERVAL;VALUE=DURATION:PT1H
X-Robots-Tag:noindex
X-PUBLISHED-TTL:PT1H
BEGIN:VTIMEZONE
TZID:America/New_York
BEGIN:DAYLIGHT
TZOFFSETFROM:-0500
TZOFFSETTO:-0400
TZNAME:EDT
DTSTART:20200308T070000
END:DAYLIGHT
BEGIN:STANDARD
TZOFFSETFROM:-0400
TZOFFSETTO:-0500
TZNAME:EST
DTSTART:20201101T060000
END:STANDARD
BEGIN:DAYLIGHT
TZOFFSETFROM:-0500
TZOFFSETTO:-0400
TZNAME:EDT
DTSTART:20210314T070000
END:DAYLIGHT
BEGIN:STANDARD
TZOFFSETFROM:-0400
TZOFFSETTO:-0500
TZNAME:EST
DTSTART:20211107T060000
END:STANDARD
BEGIN:DAYLIGHT
TZOFFSETFROM:-0500
TZOFFSETTO:-0400
TZNAME:EDT
DTSTART:20220313T070000
END:DAYLIGHT
BEGIN:STANDARD
TZOFFSETFROM:-0400
TZOFFSETTO:-0500
TZNAME:EST
DTSTART:20221106T060000
END:STANDARD
BEGIN:DAYLIGHT
TZOFFSETFROM:-0500
TZOFFSETTO:-0400
TZNAME:EDT
DTSTART:20230312T070000
END:DAYLIGHT
BEGIN:STANDARD
TZOFFSETFROM:-0400
TZOFFSETTO:-0500
TZNAME:EST
DTSTART:20231105T060000
END:STANDARD
BEGIN:DAYLIGHT
TZOFFSETFROM:-0500
TZOFFSETTO:-0400
TZNAME:EDT
DTSTART:20240310T070000
END:DAYLIGHT
BEGIN:STANDARD
TZOFFSETFROM:-0400
TZOFFSETTO:-0500
TZNAME:EST
DTSTART:20241103T060000
END:STANDARD
BEGIN:DAYLIGHT
TZOFFSETFROM:-0500
TZOFFSETTO:-0400
TZNAME:EDT
DTSTART:20250309T070000
END:DAYLIGHT
BEGIN:STANDARD
TZOFFSETFROM:-0400
TZOFFSETTO:-0500
TZNAME:EST
DTSTART:20251102T060000
END:STANDARD
BEGIN:DAYLIGHT
TZOFFSETFROM:-0500
TZOFFSETTO:-0400
TZNAME:EDT
DTSTART:20260308T070000
END:DAYLIGHT
BEGIN:STANDARD
TZOFFSETFROM:-0400
TZOFFSETTO:-0500
TZNAME:EST
DTSTART:20261101T060000
END:STANDARD
END:VTIMEZONE
BEGIN:VEVENT
DTSTART;TZID=America/New_York:20251005T070000
DTEND;TZID=America/New_York:20251005T083000
DTSTAMP:20260423T125225
CREATED:20230402T161537Z
LAST-MODIFIED:20250920T212157Z
UID:69912-1759647600-1759653000@yoganebula.com
SUMMARY:Silent Walk - Walking Meditation
DESCRIPTION:We will be doing a silent walk at Sourland Mountain Preserve located on Sourland Mountain\, in the Sourlands region of New Jersey. It is within Hillsborough Township and Montgomery Township of Somerset County. You can read about the Preserve here. Hiking in the Sourlands can take you to tranquil wooded scenes\, fields full of flowers and tall grasses\, and boulder fields.  \n\n\n\nBreath Bond – A Walk with Awareness\n\n\n\nBreath is not just the exchange of oxygen and carbon dioxide. For different levels of thought and emotion that you go through\, your breath takes on different types of patterns. When you are angry\, peaceful\, happy or sad\, your breathe goes through subtle changes. Whichever way you breathe\, that is the way you think. Whichever way you think\, that is the way you breathe. \n\n\n\nThe breath can be used as a tool to do many things with the body and the mind. Pranayam is the science where\, by consciously breathing in a particular way\, the very way you think\, feel\, understand and experience life can be changed…. [read more] \n\n\n\nYou can download the trail map here >> \n\n\n\nRain / Extreme Weather : Cancels the event. \n\n\n\nWe will walk in silence & at some point during this walk\, we will do Isha Kriya Meditation. \n\n\n\n\nThis Meditation facilitates an improvement in health and a wide variety of health conditions\nEnjoy Relaxation\, Greater energy levels and dynamism throughout the day\nBe better able to manage stress\, anxiety\, depression and the hectic pace of modern life.\nLearn to better manage your Body-Mind combination.\n\n\n\nIsha Kriya : https://www.youtube.com/watch?v=yz3C4FAvpRs\nNadi Shuddhi: https://www.youtube.com/watch?v=q5m6tMjcF8k\n\nPlease remember to do above two practices before coming to the walk. This would allow us to make the best use of this silent walk. \n\n\n\n\nLocation: 421 E Mountain Rd\, Hillsborough Township\, NJ 08844 Arrive by : 12:00pm \n\n\n\n[vfb id=’29’] \n\n\n\nFinal thoughts…\n\n\n\nYou don’t have to be in the best shape of your life to have a memorable and successful hike. But it helps to give yourself confidence with a little preparation before you go. Just remember – no matter how you feel when you leave\, you’ll return renewed\, refreshed\, and alive with a sense of accomplishment.
URL:https://yoganebula.com/hatha/event/silent-walk-walking-meditation/
LOCATION:Sourland Mountain Preserve\, 421 E Mountain Rd\, Hillsborough\, NJ\, 08844\, United States
CATEGORIES:New Jersey,Silent Walk,Workshop
ATTACH;FMTTYPE=image/png:https://yoganebula.com/hatha/wp-content/uploads/2023/04/walk.png
END:VEVENT
BEGIN:VEVENT
DTSTART;TZID=America/New_York:20220905T070000
DTEND;TZID=America/New_York:20220905T100000
DTSTAMP:20260423T125225
CREATED:20211125T171552Z
LAST-MODIFIED:20220904T021535Z
UID:45508-1662361200-1662372000@yoganebula.com
SUMMARY:Silent Walk - Sourland Mountain | Sept-5th @ 7:00am
DESCRIPTION:We will be doing a silent walk at Sourland Mountain Preserve located on Sourland Mountain\, in the Sourlands region of New Jersey. It is within Hillsborough Township and Montgomery Township of Somerset County. You can read about the Preserve here. Hiking in the Sourlands can take you to tranquil wooded scenes\, fields full of flowers and tall grasses\, and boulder fields.  \nBreath Bond – A Walk with Awareness\nBreath is not just the exchange of oxygen and carbon dioxide. For different levels of thought and emotion that you go through\, your breath takes on different types of patterns. When you are angry\, peaceful\, happy or sad\, your breathe goes through subtle changes. Whichever way you breathe\, that is the way you think. Whichever way you think\, that is the way you breathe. \n  \nThe breath can be used as a tool to do many things with the body and the mind. Pranayam is the science where\, by consciously breathing in a particular way\, the very way you think\, feel\, understand and experience life can be changed…. [read more] \n  \nYou can download the trail map here >> \n  \n We will walk in silence & at some point during this walk\, we will do Isha Kriya Meditation. \n\nThis Meditation facilitates an improvement in health and a wide variety of health conditions\nEnjoy Relaxation\, Greater energy levels and dynamism throughout the day\nBe better able to manage stress\, anxiety\, depression and the hectic pace of modern life.\nLearn to better manage your Body-Mind combination.\n\nLocation: 421 E Mountain Rd\, Hillsborough Township\, NJ 08844  \nWalk – Starts at : 7:00 am & Ends – before : 10:00 am \n  \n[vfb id=’29’] \n  \nFinal thoughts…\nYou don’t have to be in the best shape of your life to have a memorable and successful hike. But it helps to give yourself confidence with a little preparation before you go. Just remember – no matter how you feel when you leave\, you’ll return renewed\, refreshed\, and alive with a sense of accomplishment.
URL:https://yoganebula.com/hatha/event/silent-walk-sourland-mountain/
LOCATION:Sourland Mountain Preserve\, 421 E Mountain Rd\, Hillsborough\, NJ\, 08844\, United States
CATEGORIES:New Jersey,Silent Walk
ATTACH;FMTTYPE=image/png:https://yoganebula.com/hatha/wp-content/uploads/2021/11/silent-walk.png
END:VEVENT
BEGIN:VEVENT
DTSTART;TZID=America/New_York:20210424T073000
DTEND;TZID=America/New_York:20210424T110000
DTSTAMP:20260423T125225
CREATED:20210202T045712Z
LAST-MODIFIED:20210417T230513Z
UID:30657-1619249400-1619262000@yoganebula.com
SUMMARY:Breath Walk
DESCRIPTION:We will be doing a silent walk . \nBreath Bond – A Walk with Awareness\nBreath is not just the exchange of oxygen and carbon dioxide. For different levels of thought and emotion that you go through\, your breath takes on different types of patterns. When you are angry\, peaceful\, happy or sad\, your breathe goes through subtle changes. Whichever way you breathe\, that is the way you think. Whichever way you think\, that is the way you breathe. \nThe breath can be used as a tool to do many things with the body and the mind. Pranayam is the science where\, by consciously breathing in a particular way\, the very way you think\, feel\, understand and experience life can be changed…. [read more] \nYou learn about the trail here >> \nRain / Extreme Weather : Cancels the event. \nWe will walk in silence & at some point during this walk\, we will do Isha Kriya Meditation. \n\nThis Meditation facilitates an improvement in health and a wide variety of health conditions\nEnjoy Relaxation\, Greater energy levels and dynamism throughout the day\nBe better able to manage stress\, anxiety\, depression and the hectic pace of modern life.\nLearn to better manage your Body-Mind combination.\n\n\n\nIsha Kriya : https://www.youtube.com/watch?v=yz3C4FAvpRs\nNadi Shuddhi: https://www.youtube.com/watch?v=q5m6tMjcF8k\n\nPlease remember to do above two practices before coming to the walk. This would allow us to make the best use of this silent walk. \n[vfb id=’29’]
URL:https://yoganebula.com/hatha/event/breath-walk/
LOCATION:Sourland Mountain Preserve\, 421 E Mountain Rd\, Hillsborough\, NJ\, 08844\, United States
CATEGORIES:Free Class,New Jersey,New York,Silent Walk
ATTACH;FMTTYPE=image/png:https://yoganebula.com/hatha/wp-content/uploads/2020/08/walk.png
END:VEVENT
END:VCALENDAR