BEGIN:VCALENDAR
VERSION:2.0
PRODID:-//YOGA NEBULA - ECPv6.15.20//NONSGML v1.0//EN
CALSCALE:GREGORIAN
METHOD:PUBLISH
X-ORIGINAL-URL:https://yoganebula.com/hatha
X-WR-CALDESC:Events for YOGA NEBULA
REFRESH-INTERVAL;VALUE=DURATION:PT1H
X-Robots-Tag:noindex
X-PUBLISHED-TTL:PT1H
BEGIN:VTIMEZONE
TZID:America/New_York
BEGIN:DAYLIGHT
TZOFFSETFROM:-0500
TZOFFSETTO:-0400
TZNAME:EDT
DTSTART:20250309T070000
END:DAYLIGHT
BEGIN:STANDARD
TZOFFSETFROM:-0400
TZOFFSETTO:-0500
TZNAME:EST
DTSTART:20251102T060000
END:STANDARD
BEGIN:DAYLIGHT
TZOFFSETFROM:-0500
TZOFFSETTO:-0400
TZNAME:EDT
DTSTART:20260308T070000
END:DAYLIGHT
BEGIN:STANDARD
TZOFFSETFROM:-0400
TZOFFSETTO:-0500
TZNAME:EST
DTSTART:20261101T060000
END:STANDARD
BEGIN:DAYLIGHT
TZOFFSETFROM:-0500
TZOFFSETTO:-0400
TZNAME:EDT
DTSTART:20270314T070000
END:DAYLIGHT
BEGIN:STANDARD
TZOFFSETFROM:-0400
TZOFFSETTO:-0500
TZNAME:EST
DTSTART:20271107T060000
END:STANDARD
BEGIN:DAYLIGHT
TZOFFSETFROM:-0500
TZOFFSETTO:-0400
TZNAME:EDT
DTSTART:20280312T070000
END:DAYLIGHT
BEGIN:STANDARD
TZOFFSETFROM:-0400
TZOFFSETTO:-0500
TZNAME:EST
DTSTART:20281105T060000
END:STANDARD
END:VTIMEZONE
BEGIN:VEVENT
DTSTART;TZID=America/New_York:20260407T073000
DTEND;TZID=America/New_York:20270315T083000
DTSTAMP:20260423T174126
CREATED:20260107T171414Z
LAST-MODIFIED:20260316T050236Z
UID:102950-1775547000-1805099400@yoganebula.com
SUMMARY:11 Days Senior Wellness
DESCRIPTION:﻿Each live session is slow-paced\, carefully guided\, and adaptable to individual comfort levels. Over five days\, participants develop a simple\, repeatable practice that supports balance\, flexibility\, mental clarity\, and a greater sense of calm—without strain or pressure. The focus is not on pushing the body\, but on supporting what it is ready for\, creating a steady foundation for long-term wellbeing.
URL:https://yoganebula.com/hatha/event/senior-wellness/
LOCATION:Online\, Online Workshop - EST Time Zone\, NY\, United States
CATEGORIES:Online,Senior Wellness
ATTACH;FMTTYPE=image/png:https://yoganebula.com/hatha/wp-content/uploads/2026/01/11-Days.png
END:VEVENT
BEGIN:VEVENT
DTSTART;TZID=America/New_York:20260407T180000
DTEND;TZID=America/New_York:20270311T190000
DTSTAMP:20260423T174126
CREATED:20260107T185205Z
LAST-MODIFIED:20260316T050719Z
UID:102966-1775584800-1804791600@yoganebula.com
SUMMARY:5 Days Senior Wellness
DESCRIPTION:Each live session is slow-paced\, carefully guided\, and adaptable to individual comfort levels. Over five days\, participants develop a simple\, repeatable practice that supports balance\, flexibility\, mental clarity\, and a greater sense of calm—without strain or pressure. The focus is not on pushing the body\, but on supporting what it is ready for\, creating a steady foundation for long-term wellbeing.
URL:https://yoganebula.com/hatha/event/5-days-senior-wellness/
LOCATION:Online\, Online Workshop - EST Time Zone\, NY\, United States
CATEGORIES:Online,Senior Wellness
ATTACH;FMTTYPE=image/png:https://yoganebula.com/hatha/wp-content/uploads/2026/01/5-Days-1.png
END:VEVENT
END:VCALENDAR