BEGIN:VCALENDAR
VERSION:2.0
PRODID:-//YOGA NEBULA - ECPv6.15.20//NONSGML v1.0//EN
CALSCALE:GREGORIAN
METHOD:PUBLISH
X-ORIGINAL-URL:https://yoganebula.com/hatha
X-WR-CALDESC:Events for YOGA NEBULA
REFRESH-INTERVAL;VALUE=DURATION:PT1H
X-Robots-Tag:noindex
X-PUBLISHED-TTL:PT1H
BEGIN:VTIMEZONE
TZID:America/New_York
BEGIN:DAYLIGHT
TZOFFSETFROM:-0500
TZOFFSETTO:-0400
TZNAME:EDT
DTSTART:20250309T070000
END:DAYLIGHT
BEGIN:STANDARD
TZOFFSETFROM:-0400
TZOFFSETTO:-0500
TZNAME:EST
DTSTART:20251102T060000
END:STANDARD
BEGIN:DAYLIGHT
TZOFFSETFROM:-0500
TZOFFSETTO:-0400
TZNAME:EDT
DTSTART:20260308T070000
END:DAYLIGHT
BEGIN:STANDARD
TZOFFSETFROM:-0400
TZOFFSETTO:-0500
TZNAME:EST
DTSTART:20261101T060000
END:STANDARD
BEGIN:DAYLIGHT
TZOFFSETFROM:-0500
TZOFFSETTO:-0400
TZNAME:EDT
DTSTART:20270314T070000
END:DAYLIGHT
BEGIN:STANDARD
TZOFFSETFROM:-0400
TZOFFSETTO:-0500
TZNAME:EST
DTSTART:20271107T060000
END:STANDARD
END:VTIMEZONE
BEGIN:VEVENT
DTSTART;TZID=America/New_York:20260314T180000
DTEND;TZID=America/New_York:20260314T190000
DTSTAMP:20260423T135555
CREATED:20260206T005710Z
LAST-MODIFIED:20260206T010821Z
UID:103120-1773511200-1773514800@yoganebula.com
SUMMARY:FREE: One Day Kids Workshop
DESCRIPTION:This one-day workshop introduces children to simple yet effective yogic practices that cultivate physical health\, emotional balance\, and mental clarity. Through gentle movements\, conscious breathing\, and guided awareness\, children discover practical tools to support their wellbeing. \nWhat children will learn: \n\nRelease restlessness and channel excess energy mindfully\nImprove posture\, coordination\, and natural flexibility\nCultivate focus\, calmness\, and inner peace\nDevelop a deeper awareness of their body and breath\n\nThese practices are safe\, accessible\, and easy to learn—suitable for children of all levels. Best of all\, they’re designed to be practiced at home and woven seamlessly into daily life\, giving children a lifelong gift of wellness. \nThis workshop equips children with meaningful tools to navigate school\, emotions\, and everyday challenges with greater balance\, confidence\, and ease.
URL:https://yoganebula.com/hatha/event/march-free-one-day-workshop/
LOCATION:Online\, Online Workshop - EST Time Zone\, NY\, United States
CATEGORIES:Online,Workshop,Yoga for Kids
ATTACH;FMTTYPE=image/png:https://yoganebula.com/hatha/wp-content/uploads/2026/01/11days.png
END:VEVENT
END:VCALENDAR