BEGIN:VCALENDAR
VERSION:2.0
PRODID:-//YOGA NEBULA - ECPv6.15.20//NONSGML v1.0//EN
CALSCALE:GREGORIAN
METHOD:PUBLISH
X-ORIGINAL-URL:https://yoganebula.com/hatha
X-WR-CALDESC:Events for YOGA NEBULA
REFRESH-INTERVAL;VALUE=DURATION:PT1H
X-Robots-Tag:noindex
X-PUBLISHED-TTL:PT1H
BEGIN:VTIMEZONE
TZID:America/New_York
BEGIN:DAYLIGHT
TZOFFSETFROM:-0500
TZOFFSETTO:-0400
TZNAME:EDT
DTSTART:20240310T070000
END:DAYLIGHT
BEGIN:STANDARD
TZOFFSETFROM:-0400
TZOFFSETTO:-0500
TZNAME:EST
DTSTART:20241103T060000
END:STANDARD
BEGIN:DAYLIGHT
TZOFFSETFROM:-0500
TZOFFSETTO:-0400
TZNAME:EDT
DTSTART:20250309T070000
END:DAYLIGHT
BEGIN:STANDARD
TZOFFSETFROM:-0400
TZOFFSETTO:-0500
TZNAME:EST
DTSTART:20251102T060000
END:STANDARD
BEGIN:DAYLIGHT
TZOFFSETFROM:-0500
TZOFFSETTO:-0400
TZNAME:EDT
DTSTART:20260308T070000
END:DAYLIGHT
BEGIN:STANDARD
TZOFFSETFROM:-0400
TZOFFSETTO:-0500
TZNAME:EST
DTSTART:20261101T060000
END:STANDARD
END:VTIMEZONE
BEGIN:VEVENT
DTSTART;TZID=America/New_York:20251104T180000
DTEND;TZID=America/New_York:20251104T200000
DTSTAMP:20260425T193836
CREATED:20240315T014641Z
LAST-MODIFIED:20250811T024506Z
UID:87090-1762279200-1762286400@yoganebula.com
SUMMARY:Full Moon Meditation - Nov
DESCRIPTION:Welcome | Namaskaram | Salaam | Aloha | Shalom | Ni Hao We Invite you to come for Ling Bhairavi Devi Pooja. Welcome you to check the Isha Lunar Calendar for Full-Moon dates. Devi Pooja happens every full moon night & it goes on for about 45minutes. During this time\, you can participate by chanting along with Sadhguru  or just sit silently. \nAnyone can attend this Meditation/Chanting & incase\, you are coming with young kids\, it is a humble request to ensure that they stay quiet during the Meditation & you can sit silently in the living room with them please. \nOnce the chant is over\, you can continue to sit for as long as you want. The schedule is below: (no unnecessary movement during the schedule below) \n\n6:05pm : be seated (please note once the Guru Pooja starts the door to the meditation room will close & you can sit in the room outside)\nPlease plan to arrive by 6:00pm if you plan to attend Guru Pooja.\nGuru Pooja\n10 Minute: Silence\n6:30pm Chant (Door opens)\nBrahmand Swaroopa\n5-10 Min Break (you can continue to sit in silence)\n7:00 pm \nLinga Bhairavi Arati\nLum Vum Chant\nStuthi chant for 3 cycles after Sadhguru\nJaago Bhairavi\nLinga Bhairavi Arati\n7:45 pm Prasad\n\n\n\n \n\n\n\n[please turn off your cell-phones]   Below are few links about Devi & the Chant: Linga Bhairavi – A Window Into the Creation | Sadhguru http://www.lingabhairavi.org/eflyers/linga-bhairavi-avighna-yantra.htm https://soundcloud.com/soundsofisha   Location : Hillsborough\, NJ 08844 (RSVP does not guarantee you a spot and is not on a first come first serve basis even if you do so in advance. If there is space\, we will be sure to get in touch with you. This is due to limited space and high demand) \n  \n[wpforms id=”91151″]
URL:https://yoganebula.com/hatha/event/full-moon-meditation-nov-2025/
LOCATION:Hillsborough\, Opposite Country Classics Fields\, Hillsborough\, NJ\, 08844\, United States
CATEGORIES:New Jersey
ATTACH;FMTTYPE=image/jpeg:https://yoganebula.com/hatha/wp-content/uploads/2022/05/fullmoon.jpg
END:VEVENT
END:VCALENDAR