BEGIN:VCALENDAR
VERSION:2.0
PRODID:-//YOGA NEBULA - ECPv6.15.20//NONSGML v1.0//EN
CALSCALE:GREGORIAN
METHOD:PUBLISH
X-WR-CALNAME:YOGA NEBULA
X-ORIGINAL-URL:https://yoganebula.com/hatha
X-WR-CALDESC:Events for YOGA NEBULA
REFRESH-INTERVAL;VALUE=DURATION:PT1H
X-Robots-Tag:noindex
X-PUBLISHED-TTL:PT1H
BEGIN:VTIMEZONE
TZID:America/New_York
BEGIN:DAYLIGHT
TZOFFSETFROM:-0500
TZOFFSETTO:-0400
TZNAME:EDT
DTSTART:20240310T070000
END:DAYLIGHT
BEGIN:STANDARD
TZOFFSETFROM:-0400
TZOFFSETTO:-0500
TZNAME:EST
DTSTART:20241103T060000
END:STANDARD
BEGIN:DAYLIGHT
TZOFFSETFROM:-0500
TZOFFSETTO:-0400
TZNAME:EDT
DTSTART:20250309T070000
END:DAYLIGHT
BEGIN:STANDARD
TZOFFSETFROM:-0400
TZOFFSETTO:-0500
TZNAME:EST
DTSTART:20251102T060000
END:STANDARD
BEGIN:DAYLIGHT
TZOFFSETFROM:-0500
TZOFFSETTO:-0400
TZNAME:EDT
DTSTART:20260308T070000
END:DAYLIGHT
BEGIN:STANDARD
TZOFFSETFROM:-0400
TZOFFSETTO:-0500
TZNAME:EST
DTSTART:20261101T060000
END:STANDARD
END:VTIMEZONE
BEGIN:VEVENT
DTSTART;TZID=America/New_York:20251005T070000
DTEND;TZID=America/New_York:20251005T083000
DTSTAMP:20260425T204932
CREATED:20230402T161537Z
LAST-MODIFIED:20250920T212157Z
UID:69912-1759647600-1759653000@yoganebula.com
SUMMARY:Silent Walk - Walking Meditation
DESCRIPTION:We will be doing a silent walk at Sourland Mountain Preserve located on Sourland Mountain\, in the Sourlands region of New Jersey. It is within Hillsborough Township and Montgomery Township of Somerset County. You can read about the Preserve here. Hiking in the Sourlands can take you to tranquil wooded scenes\, fields full of flowers and tall grasses\, and boulder fields.  \n\n\n\nBreath Bond – A Walk with Awareness\n\n\n\nBreath is not just the exchange of oxygen and carbon dioxide. For different levels of thought and emotion that you go through\, your breath takes on different types of patterns. When you are angry\, peaceful\, happy or sad\, your breathe goes through subtle changes. Whichever way you breathe\, that is the way you think. Whichever way you think\, that is the way you breathe. \n\n\n\nThe breath can be used as a tool to do many things with the body and the mind. Pranayam is the science where\, by consciously breathing in a particular way\, the very way you think\, feel\, understand and experience life can be changed…. [read more] \n\n\n\nYou can download the trail map here >> \n\n\n\nRain / Extreme Weather : Cancels the event. \n\n\n\nWe will walk in silence & at some point during this walk\, we will do Isha Kriya Meditation. \n\n\n\n\nThis Meditation facilitates an improvement in health and a wide variety of health conditions\nEnjoy Relaxation\, Greater energy levels and dynamism throughout the day\nBe better able to manage stress\, anxiety\, depression and the hectic pace of modern life.\nLearn to better manage your Body-Mind combination.\n\n\n\nIsha Kriya : https://www.youtube.com/watch?v=yz3C4FAvpRs\nNadi Shuddhi: https://www.youtube.com/watch?v=q5m6tMjcF8k\n\nPlease remember to do above two practices before coming to the walk. This would allow us to make the best use of this silent walk. \n\n\n\n\nLocation: 421 E Mountain Rd\, Hillsborough Township\, NJ 08844 Arrive by : 12:00pm \n\n\n\n[vfb id=’29’] \n\n\n\nFinal thoughts…\n\n\n\nYou don’t have to be in the best shape of your life to have a memorable and successful hike. But it helps to give yourself confidence with a little preparation before you go. Just remember – no matter how you feel when you leave\, you’ll return renewed\, refreshed\, and alive with a sense of accomplishment.
URL:https://yoganebula.com/hatha/event/silent-walk-walking-meditation/
LOCATION:Sourland Mountain Preserve\, 421 E Mountain Rd\, Hillsborough\, NJ\, 08844\, United States
CATEGORIES:New Jersey,Silent Walk,Workshop
ATTACH;FMTTYPE=image/png:https://yoganebula.com/hatha/wp-content/uploads/2023/04/walk.png
END:VEVENT
BEGIN:VEVENT
DTSTART;TZID=America/New_York:20251006T173000
DTEND;TZID=America/New_York:20251006T203000
DTSTAMP:20260425T204932
CREATED:20240514T143749Z
LAST-MODIFIED:20250811T024427Z
UID:90015-1759771800-1759782600@yoganebula.com
SUMMARY:Full Moon Meditation - Oct - 2025
DESCRIPTION:Welcome | Namaskaram | Salaam | Aloha | Shalom | Ni Hao We Invite you to come for Ling Bhairavi Devi Pooja. Welcome you to check the Isha Lunar Calendar for Full-Moon dates. Devi Pooja happens every full moon night & it goes on for about 45minutes. During this time\, you can participate by chanting along with Sadhguru  or just sit silently. \nAnyone can attend this Meditation/Chanting & incase\, you are coming with young kids\, it is a humble request to ensure that they stay quiet during the Meditation & you can sit silently in the living room with them please. \nOnce the chant is over\, you can continue to sit for as long as you want. The schedule is below: (no unnecessary movement during the schedule below) \n\n6:05pm : be seated (please note once the Guru Pooja starts the door to the meditation room will close & you can sit in the room outside)\nPlease plan to arrive by 6:00pm if you plan to attend Guru Pooja.\nGuru Pooja\n10 Minute: Silence\n6:30pm Chant (Door opens)\nBrahmand Swaroopa\n5-10 Min Break (you can continue to sit in silence)\n7:00 pm \nLinga Bhairavi Arati\nLum Vum Chant\nStuthi chant for 3 cycles after Sadhguru\nJaago Bhairavi\nLinga Bhairavi Arati\n7:45 pm Prasad\n\n\n\n \n\n\n\n[please turn off your cell-phones]   Below are few links about Devi & the Chant: Linga Bhairavi – A Window Into the Creation | Sadhguru http://www.lingabhairavi.org/eflyers/linga-bhairavi-avighna-yantra.htm https://soundcloud.com/soundsofisha   Location : Hillsborough\, NJ 08844 (RSVP does not guarantee you a spot and is not on a first come first serve basis even if you do so in advance. If there is space\, we will be sure to get in touch with you. This is due to limited space and high demand) \n  \n[wpforms id=”91151″]
URL:https://yoganebula.com/hatha/event/full-moon-meditation-oct-2025/
LOCATION:Hillsborough\, Opposite Country Classics Fields\, Hillsborough\, NJ\, 08844\, United States
CATEGORIES:New Jersey,Workshop
ATTACH;FMTTYPE=image/jpeg:https://yoganebula.com/hatha/wp-content/uploads/2022/05/fullmoon.jpg
END:VEVENT
BEGIN:VEVENT
DTSTART;TZID=America/New_York:20251026T173000
DTEND;TZID=America/New_York:20251026T193000
DTSTAMP:20260425T204932
CREATED:20250123T190752Z
LAST-MODIFIED:20251018T181730Z
UID:101756-1761499800-1761507000@yoganebula.com
SUMMARY:Non-Stop Chanting
DESCRIPTION:We’ll begin with an hour of powerful\, uplifting chants to quiet the mind and open the heart. \nAfterwards\, we’ll have an informal sharing with an Inner Engineering Ishaanga\, who’s visiting from Tennessee specially for upcoming “Soak in Ecstasy of Enlightenment” — a rare and profound event with Sadhguru happening in Philadelphia on November 15th. \nYou’re welcome to bring friends and family.\nIt’s completely fine if you don’t wish to chant — just come along for the chai\, gupshup\, and heartfelt conversation. \nLet’s gather\, sit together\, and do some chit-chat. \nIf anything resonates\, then just come – don’t hesitate :). Explore All Possibilities  : ) \n  \n* GupShup : chit-chat or casual conversation.  🙂 \n[wpforms id=”95161″]
URL:https://yoganebula.com/hatha/event/chanting/
LOCATION:Hillsborough\, Opposite Country Classics Fields\, Hillsborough\, NJ\, 08844\, United States
CATEGORIES:New Jersey
ATTACH;FMTTYPE=image/png:https://yoganebula.com/hatha/wp-content/uploads/2025/01/Screenshot-2025-10-13-at-3.15.02-PM.png
END:VEVENT
END:VCALENDAR