BEGIN:VCALENDAR
VERSION:2.0
PRODID:-//YOGA NEBULA - ECPv6.15.20//NONSGML v1.0//EN
CALSCALE:GREGORIAN
METHOD:PUBLISH
X-ORIGINAL-URL:https://yoganebula.com/hatha
X-WR-CALDESC:Events for YOGA NEBULA
REFRESH-INTERVAL;VALUE=DURATION:PT1H
X-Robots-Tag:noindex
X-PUBLISHED-TTL:PT1H
BEGIN:VTIMEZONE
TZID:America/New_York
BEGIN:DAYLIGHT
TZOFFSETFROM:-0500
TZOFFSETTO:-0400
TZNAME:EDT
DTSTART:20250309T070000
END:DAYLIGHT
BEGIN:STANDARD
TZOFFSETFROM:-0400
TZOFFSETTO:-0500
TZNAME:EST
DTSTART:20251102T060000
END:STANDARD
BEGIN:DAYLIGHT
TZOFFSETFROM:-0500
TZOFFSETTO:-0400
TZNAME:EDT
DTSTART:20260308T070000
END:DAYLIGHT
BEGIN:STANDARD
TZOFFSETFROM:-0400
TZOFFSETTO:-0500
TZNAME:EST
DTSTART:20261101T060000
END:STANDARD
BEGIN:DAYLIGHT
TZOFFSETFROM:-0500
TZOFFSETTO:-0400
TZNAME:EDT
DTSTART:20270314T070000
END:DAYLIGHT
BEGIN:STANDARD
TZOFFSETFROM:-0400
TZOFFSETTO:-0500
TZNAME:EST
DTSTART:20271107T060000
END:STANDARD
END:VTIMEZONE
BEGIN:VEVENT
DTSTART;TZID=America/New_York:20260421T050000
DTEND;TZID=America/New_York:20260505T060000
DTSTAMP:20260423T151043
CREATED:20250603T211336Z
LAST-MODIFIED:20260316T060057Z
UID:101915-1776747600-1777960800@yoganebula.com
SUMMARY:11 Days or 21 Days  Surya Shakti
DESCRIPTION:Surya Shakti builds the physical body – it makes the sinews and ligaments of your body strong. In Yoga\, we give importance to the sinews that hold the skeletal system and the whole body together. When we do any yogic practice\, which is physical in nature\, the focus is mainly to strengthen those\, not to pump up your muscles. Strengthening the sinews of the body is what will endure for a long time and keep you well. Surya Shakti does this in a tremendous way. \nWhen we say Surya\, we are talking about the Sun which is the basic powerhouse of the planet. Life on the planet is solar powered\, including human system. Surya Shakti is a way of using that energy. It does wonders for your health\, as well as your physical and mental wellbeing. \nSurya means “Sun\,” and Shakti means “Energy”. Surya Shakti is a complete process\, which is largely physical in nature. If you do 108 cycles of Surya Shakti\, it will make you fit and you will not need any other form of exercise. \nDoing surya shakti takes the balancing nature of the sun practices and allows you to energize yourself so the energy you create can be used in a focused way. The best thing about the practice is that\, it has the flexibility of time so you can do a certain minimum amount or build it up and keep increasing it to create more energy. It has that ability to make you into a real powerhouse in the world. \n  \nDuring these 11days\, we will gradually increase the Surya Shakti cycles. The pre-requsite is that you must have learnt Surya Shakti. \n 
URL:https://yoganebula.com/hatha/event/11-days-surya-shakti-cycles/
LOCATION:Hillsborough\, Opposite Country Classics Fields\, Hillsborough\, NJ\, 08844\, United States
CATEGORIES:In_Person,Mastery Over Limbs,New Jersey
ATTACH;FMTTYPE=image/png:https://yoganebula.com/hatha/wp-content/uploads/2025/06/SuryaShakti-21Days.png
END:VEVENT
END:VCALENDAR