BEGIN:VCALENDAR
VERSION:2.0
PRODID:-//YOGA NEBULA - ECPv6.15.20//NONSGML v1.0//EN
CALSCALE:GREGORIAN
METHOD:PUBLISH
X-ORIGINAL-URL:https://yoganebula.com/hatha
X-WR-CALDESC:Events for YOGA NEBULA
REFRESH-INTERVAL;VALUE=DURATION:PT1H
X-Robots-Tag:noindex
X-PUBLISHED-TTL:PT1H
BEGIN:VTIMEZONE
TZID:America/New_York
BEGIN:DAYLIGHT
TZOFFSETFROM:-0500
TZOFFSETTO:-0400
TZNAME:EDT
DTSTART:20160313T070000
END:DAYLIGHT
BEGIN:STANDARD
TZOFFSETFROM:-0400
TZOFFSETTO:-0500
TZNAME:EST
DTSTART:20161106T060000
END:STANDARD
BEGIN:DAYLIGHT
TZOFFSETFROM:-0500
TZOFFSETTO:-0400
TZNAME:EDT
DTSTART:20170312T070000
END:DAYLIGHT
BEGIN:STANDARD
TZOFFSETFROM:-0400
TZOFFSETTO:-0500
TZNAME:EST
DTSTART:20171105T060000
END:STANDARD
BEGIN:DAYLIGHT
TZOFFSETFROM:-0500
TZOFFSETTO:-0400
TZNAME:EDT
DTSTART:20180311T070000
END:DAYLIGHT
BEGIN:STANDARD
TZOFFSETFROM:-0400
TZOFFSETTO:-0500
TZNAME:EST
DTSTART:20181104T060000
END:STANDARD
BEGIN:DAYLIGHT
TZOFFSETFROM:-0500
TZOFFSETTO:-0400
TZNAME:EDT
DTSTART:20190310T070000
END:DAYLIGHT
BEGIN:STANDARD
TZOFFSETFROM:-0400
TZOFFSETTO:-0500
TZNAME:EST
DTSTART:20191103T060000
END:STANDARD
BEGIN:DAYLIGHT
TZOFFSETFROM:-0500
TZOFFSETTO:-0400
TZNAME:EDT
DTSTART:20200308T070000
END:DAYLIGHT
BEGIN:STANDARD
TZOFFSETFROM:-0400
TZOFFSETTO:-0500
TZNAME:EST
DTSTART:20201101T060000
END:STANDARD
BEGIN:DAYLIGHT
TZOFFSETFROM:-0500
TZOFFSETTO:-0400
TZNAME:EDT
DTSTART:20210314T070000
END:DAYLIGHT
BEGIN:STANDARD
TZOFFSETFROM:-0400
TZOFFSETTO:-0500
TZNAME:EST
DTSTART:20211107T060000
END:STANDARD
BEGIN:DAYLIGHT
TZOFFSETFROM:-0500
TZOFFSETTO:-0400
TZNAME:EDT
DTSTART:20220313T070000
END:DAYLIGHT
BEGIN:STANDARD
TZOFFSETFROM:-0400
TZOFFSETTO:-0500
TZNAME:EST
DTSTART:20221106T060000
END:STANDARD
BEGIN:DAYLIGHT
TZOFFSETFROM:-0500
TZOFFSETTO:-0400
TZNAME:EDT
DTSTART:20230312T070000
END:DAYLIGHT
BEGIN:STANDARD
TZOFFSETFROM:-0400
TZOFFSETTO:-0500
TZNAME:EST
DTSTART:20231105T060000
END:STANDARD
BEGIN:DAYLIGHT
TZOFFSETFROM:-0500
TZOFFSETTO:-0400
TZNAME:EDT
DTSTART:20240310T070000
END:DAYLIGHT
BEGIN:STANDARD
TZOFFSETFROM:-0400
TZOFFSETTO:-0500
TZNAME:EST
DTSTART:20241103T060000
END:STANDARD
BEGIN:DAYLIGHT
TZOFFSETFROM:-0500
TZOFFSETTO:-0400
TZNAME:EDT
DTSTART:20250309T070000
END:DAYLIGHT
BEGIN:STANDARD
TZOFFSETFROM:-0400
TZOFFSETTO:-0500
TZNAME:EST
DTSTART:20251102T060000
END:STANDARD
END:VTIMEZONE
BEGIN:VTIMEZONE
TZID:UTC
BEGIN:STANDARD
TZOFFSETFROM:+0000
TZOFFSETTO:+0000
TZNAME:UTC
DTSTART:20160101T000000
END:STANDARD
END:VTIMEZONE
BEGIN:VEVENT
DTSTART;TZID=America/New_York:20240623T190000
DTEND;TZID=America/New_York:20240623T200000
DTSTAMP:20260423T135417
CREATED:20240527T204212Z
LAST-MODIFIED:20240607T013719Z
UID:90651-1719169200-1719172800@yoganebula.com
SUMMARY:FREE Yoga Day - NYC
DESCRIPTION:[wpforms id=”91179″]
URL:https://yoganebula.com/hatha/event/free-yoga-day-nyc/
LOCATION:Lucid Body House – New York City\, 230 Lexington Ave\, New York\, NY\, 10016\, United States
CATEGORIES:Inner Well-Being,New York
ATTACH;FMTTYPE=image/png:https://yoganebula.com/hatha/wp-content/uploads/2024/05/dept.png
END:VEVENT
BEGIN:VEVENT
DTSTART;TZID=America/New_York:20230722T080000
DTEND;TZID=America/New_York:20230722T203000
DTSTAMP:20260423T135417
CREATED:20220930T152153Z
LAST-MODIFIED:20230708T001250Z
UID:60844-1690012800-1690057800@yoganebula.com
SUMMARY:Surya Kriya - Balance & Clarity
DESCRIPTION:Please register before July-15th as seats are limited\nOnce you register\, you would receive an email to complete the next steps.\n\nOnce the registrations & the next steps are completed\, the registration will be considered confirmed.\n\n\n\nSurya Kriya is a potent yogic practice of tremendous antiquity\, designed as a holistic process for health\, wellness\, and complete inner well-being.[more] Surya Kriya includes several aspects that enrich one’s life: \n\nDevelops mental clarity and focus\nRemedies weak constitutions\nBoosts vigor and vitality\nBalances hormonal levels in the body\nPrepares one for deeper states of meditation\n\nPractice Requirements \n\nSuitable for ages 14+\nMedium-level intensity\nNo experience of yoga necessary\n\n[vfb id=’27’]
URL:https://yoganebula.com/hatha/event/surya-kriya-balance-clarity/
LOCATION:Hillsborough\, Opposite Country Classics Fields\, Hillsborough\, NJ\, 08844\, United States
CATEGORIES:Inner Well-Being,New Jersey,Surya Kriya,Workshop
END:VEVENT
BEGIN:VEVENT
DTSTART;TZID=America/New_York:20230204T180000
DTEND;TZID=America/New_York:20230204T200000
DTSTAMP:20260423T135417
CREATED:20221103T200457Z
LAST-MODIFIED:20230107T155518Z
UID:62558-1675533600-1675540800@yoganebula.com
SUMMARY:Full Moon - Feb 2023
DESCRIPTION:Welcome | Namaskaram | Salaam | Aloha | Shalom | Ni Hao \nWe Invite you to come for Ling Bhairavi Devi Pooja. \nWelcome you to check the Isha Lunar Calendar for Full-Moon dates. \nPlease read below in its entirety if you are planning to attend \nDevi Pooja happens every full moon night & it goes on for about 45minutes. During this time\, you can participate by chanting along with Sadhguru  or just sit silently. \nAnyone can attend this Meditation/Chanting & incase\, you are coming with young kids\, it is a humble request to ensure that they stay quiet during the Meditation & you can sit silently in the living room with them please. \nOnce the chant is over\, you can continue to sit for as long as you want. \nThe schedule is below: (no unnecessary movement during the schedule below) \n\n6:05pm : be seated (please note once the Guru Pooja starts the door to the meditation room will close & you can sit in the room outside)\nPlease plan to arrive by 6:00pm if you plan to attend Guru Pooja.\nGuru Pooja\n10 Minute: Silence\n6:30pm Chant (Door opens)\nBrahmand Swaroopa\n5-10 Min Break (you can continue to sit in silence)\n7:00 pm \nLinga Bhairavi Arati\nLum Vum Chant\nStuthi chant for 3 cycles after Sadhguru\nJaago Bhairavi\nLinga Bhairavi Arati\n7:45 pm Prasad\n\n\n\n \n\n\n  \n\n\n[please turn off your cell-phones] \n  \nBelow are few links about Devi & the Chant: \nLinga Bhairavi – A Window Into the Creation | Sadhguru \nhttp://www.lingabhairavi.org/eflyers/linga-bhairavi-avighna-yantra.htm \nhttps://soundcloud.com/soundsofisha \n  \nLocation : Hillsborough\, NJ 08844\n(RSVP does not guarantee you a spot and is not on a first come first serve basis even if you do so in\nadvance. If there is space\, we will be sure to get in touch with you. This is due to limited space and high demand) \n  \n  \n  \n[vfb id=’35’]
URL:https://yoganebula.com/hatha/event/full-moon-feb-2023/
LOCATION:Hillsborough\, Opposite Country Classics Fields\, Hillsborough\, NJ\, 08844\, United States
CATEGORIES:Inner Well-Being,New Jersey,Workshop
ATTACH;FMTTYPE=image/jpeg:https://yoganebula.com/hatha/wp-content/uploads/2019/11/lb-side.jpg
END:VEVENT
BEGIN:VEVENT
DTSTART;TZID=America/New_York:20220814T073000
DTEND;TZID=America/New_York:20220814T210000
DTSTAMP:20260423T135417
CREATED:20220615T144124Z
LAST-MODIFIED:20220801T020238Z
UID:55592-1660462200-1660510800@yoganebula.com
SUMMARY:Isha Surya Kriya - Lucid Body House
DESCRIPTION:Must complete REGISTRATION before July-10th.\n\n\nBoth sessions are mandatory for those learning Surya Kriya for first time.\n\nOnce you attend both sessions\, you will be equipped with a 21-minutes take home practice for life.\n\nSurya Kriya is a potent yogic practice of tremendous antiquity\, designed as a holistic process for health\, wellness\, and complete inner well-being.[more] \nSurya Kriya includes several aspects that enrich one’s life: \n\nDevelops mental clarity and focus\nRemedies weak constitutions\nBoosts vigor and vitality\nBalances hormonal levels in the body\nPrepares one for deeper states of meditation\n\nPractice Requirements \n\nSuitable for ages 14+\nMedium-level intensity\nNo experience of yoga necessary\n\n[vfb id=’27’]
URL:https://yoganebula.com/hatha/event/isha-surya-kriya-lucid-body-house/
LOCATION:Lucid Body House – New York City\, 230 Lexington Ave\, New York\, NY\, 10016\, United States
CATEGORIES:Inner Well-Being,New York,Surya Kriya,Workshop
END:VEVENT
BEGIN:VEVENT
DTSTART;TZID=America/New_York:20220306T080000
DTEND;TZID=America/New_York:20220306T100000
DTSTAMP:20260423T135417
CREATED:20220216T180654Z
LAST-MODIFIED:20220221T033358Z
UID:49667-1646553600-1646560800@yoganebula.com
SUMMARY:Guided Surya Kriya
DESCRIPTION:This workshop is SOLD OUT \nNamaskaram \nWe have a review session planned as per the schedule shown. \nThe review session is ONLY for those who have previously learnt Isha Surya Kriya.\nSurya Kriya review requires Empty Stomach conditions as below: \n  \nEmpty Stomach Conditions:\nDue to the nature of the practices\, please ensure you finish : \n\nany heavy meal at least 4 hrs before the class\nsnack 2.5 hrs before\, &\nbeverage atleast 1.5 hrs before the session.\n\nPlease complete the form below & we will advise with the next steps soon after that : \n[vfb id=’36’]
URL:https://yoganebula.com/hatha/event/guided-surya-kriya/
LOCATION:Hillsborough\, Opposite Country Classics Fields\, Hillsborough\, NJ\, 08844\, United States
CATEGORIES:Inner Well-Being,New Jersey
END:VEVENT
BEGIN:VEVENT
DTSTART;TZID=America/New_York:20220122T073000
DTEND;TZID=America/New_York:20220122T200000
DTSTAMP:20260423T135417
CREATED:20211125T171010Z
LAST-MODIFIED:20220112T150537Z
UID:45505-1642836600-1642881600@yoganebula.com
SUMMARY:Surya Kriya - Bring Balance
DESCRIPTION:Participants must complete REGISTRATION latest by Jan-15\n\n\nBoth sessions are mandatory for those learning Surya Kriya for first time.\n\nOnce you attend both sessions\, you will be equipped with a 21-minutes take home practice for life.\n\nSurya Kriya is a potent yogic practice of tremendous antiquity\, designed as a holistic process for health\, wellness\, and complete inner well-being.[more] \nSurya Kriya includes several aspects that enrich one’s life: \n\nDevelops mental clarity and focus\nRemedies weak constitutions\nBoosts vigor and vitality\nBalances hormonal levels in the body\nPrepares one for deeper states of meditation\n\nPractice Requirements \n\nSuitable for ages 14+\nMedium-level intensity\nNo experience of yoga necessary\n\n[vfb id=’27’]
URL:https://yoganebula.com/hatha/event/surya-kriya-bring-balance-2/
LOCATION:Hillsborough\, Opposite Country Classics Fields\, Hillsborough\, NJ\, 08844\, United States
CATEGORIES:Inner Well-Being,New Jersey,Surya Kriya
END:VEVENT
BEGIN:VEVENT
DTSTART;TZID=America/New_York:20201011T163000
DTEND;TZID=America/New_York:20201011T183000
DTSTAMP:20260423T135417
CREATED:20200909T022211Z
LAST-MODIFIED:20200909T022514Z
UID:23329-1602433800-1602441000@yoganebula.com
SUMMARY:Bhuta Shuddhi - New Jersey
DESCRIPTION:Interested participants must complete REGISTRATION & PAYMENT 72hours before the workshop. \n\nOnce you attend this Bhuta Shuddhi Workshop\, you will be equipped with a 10-minutes take home practice for life.\n\nThe basis for all creation\, including the physical body\, is the group of five elements: earth\, water\, wind\, fire\, and space. The wellbeing of the body and mind can be established by purifying these five elements within the human system. This process also shapes the body into a stepping stone towards one’s ultimate wellbeing. \nThere is a whole system of yoga called Bhuta Shuddhi\, which means “purification of the elements.”  The Bhuta Shuddhi processes offered by Isha provide a unique opportunity for everyone to benefit from this esoteric yogic science\, which otherwise requires intense sadhana (spiritual practices). \n  \nBhuta Shuddhi: \n\nKeeps the system in harmony and balance\nPrepares the system to handle powerful states of energy\nEnhances the capabilities of the physical body\, mind\, and energy system\nCreates the basis to gain complete mastery over the human system\n\n  \n[vfb id=’27’]
URL:https://yoganebula.com/hatha/event/bhuta-shuddhi-new-jersey-isha-hatha-yoga/
LOCATION:Hillsborough\, Opposite Country Classics Fields\, Hillsborough\, NJ\, 08844\, United States
CATEGORIES:Inner Well-Being,New Jersey,Workshop
END:VEVENT
BEGIN:VEVENT
DTSTART;TZID=America/New_York:20200216T060000
DTEND;TZID=America/New_York:20200216T070000
DTSTAMP:20260423T135417
CREATED:20200126T025250Z
LAST-MODIFIED:20200215T163407Z
UID:11953-1581832800-1581836400@yoganebula.com
SUMMARY:Nadi Shuddhi & AUM Chanting
DESCRIPTION:When you become silent by your own nature\, the reverberation of AUM will naturally happen within you.  – Sadhguru \n  \nNadi Shuddhi practice cleanses the nadis – the pathways through which pranic energy flows – resulting in a balanced system and psychological wellbeing. \n\nPurifies blood and improves circulation\, resulting in improved functioning of other organs of the body.\nStrengthens the lungs and increases overall lung capacity.\nTreats disorders of the respiratory system.\nIncreases energy levels.\nIncreases metabolism rate.\nReduces stress.\n\nValuable benefits of Chanting AUM: \n\nAUM  meditation is known to have transcendental qualities. It can bring peace and balance to the meditator’s system\, and is known to relieve people from numerous physical and mental ailments when practiced regularly.\nChanting of AUM Mantra purifies the environment around the chanter and produces positive vibrations.\nIt takes you alpha\, a meditational state which gives you deep relaxation.\nYour concentration and focus increases.\nChanting removes negative mental impressions from your mind.\nIt gives you better immunity and health.\nImproves your voice\, gives strength to vocal cord and thyroid gland.\nHas a cardiovascular benefit and normalizes blood pressure.\nHelps with emotional regulation.\nIncreases energy and removes fatigue.\n\n  \nImportant: Before coming for the session please watch these three videos (Total time 25 minutes apprx) \n\nWe will start with YogaNamaskar\nHow to Chant AUM\nNadi Shuddhi \n\n  \nSchedule: \n\nDoors Open : 5:30am\nNadi Shuddhi / AUM Chanting : 6:00am – 7:00am\nFee : Pay-as-you-wish\nLocation: Hillsborough\, NJ 08844 (Opposite Country Classic Fields)\n\n  \n[vfb id=’41’] \n  \n\nThe Secret Behind The AUM Chanting\nPractice AUM Chanting with Sadhguru\n\n  \n  \n  \nall proceeds would go to SANKARA EYE FOUNDATION
URL:https://yoganebula.com/hatha/event/nadi-shuddhi-aum-chanting/
LOCATION:Hillsborough\, Opposite Country Classics Fields\, Hillsborough\, NJ\, 08844\, United States
CATEGORIES:Inner Well-Being,New Jersey
ATTACH;FMTTYPE=image/png:https://yoganebula.com/hatha/wp-content/uploads/2020/01/sillchill.png
END:VEVENT
BEGIN:VEVENT
DTSTART;TZID=America/New_York:20180127T163000
DTEND;TZID=America/New_York:20180128T113000
DTSTAMP:20260423T135417
CREATED:20170822T221151Z
LAST-MODIFIED:20180117T135143Z
UID:2730-1517070600-1517139000@yoganebula.com
SUMMARY:Learn Surya Kriya or Review
DESCRIPTION:Surya Kriya is a potent yogic practice of tremendous antiquity\, designed as a holistic process for health\, wellness\, and complete inner well-being. “Surya” means “sun\,” and “kriya” means “inner energy process.” Surya Kriya activates the solar plexus to raise the samat prana\, or solar heat\, in the system. It also balances a person’s left and right energy channels\, leading to stability of the body and stillness of the mind. This strong foundation becomes the basis to explore higher dimensions of life. \nTraditionally available only to select groups of yogis\, Surya Kriya is being offered by Sadhguru as a comprehensive spiritual practice that is ideal for the hectic pace of today’s world. \n  \nSurya Kriya includes several aspects that enrich one’s life: \n Develops mental clarity and focus \n Remedies weak constitutions \n Boosts vigor and vitality \n Balances hormonal levels in the body \n Prepares one for deeper states of meditation \n  \nEmpty Stomach Conditions:\nDue to the nature of the practices\, please ensure you finish : \n\nany heavy meal at least 4 hrs before the class\nsnack 2.5 hrs before\, &\nbeverage atleast 1.5 hrs before the session.
URL:https://yoganebula.com/hatha/event/surya-kriya-nj/
LOCATION:Holiday Inn – New Jersey\, 4701 Stelton Rd\, South Plainfield\, NJ\, 07080\, United States
CATEGORIES:Inner Well-Being,New Jersey,Surya Kriya,Workshop
END:VEVENT
BEGIN:VEVENT
DTSTART;TZID=America/New_York:20180127T083000
DTEND;TZID=America/New_York:20180127T200000
DTSTAMP:20260423T135417
CREATED:20171213T231357Z
LAST-MODIFIED:20180117T135819Z
UID:3178-1517041800-1517083200@yoganebula.com
SUMMARY:Learn Yogasanas Or Review
DESCRIPTION:The word asana literally means a posture. Out of the innumerable asanas a body can assume\, 84 have been identified as Yogasanas\, through which one can transform the body and mind into a possibility for ultimate well-being. Yogasanas are not exercises\, but rather very subtle processes to manipulate one’s energy in a particular direction. \nIn an untrained state\, the human body is a constant manifestation of various levels of compulsiveness. By consciously forming the body into a certain posture\, one creates a conducive passage for energy flow that can elevate one’s consciousness. Yogasanas are a way of aligning the inner system and adjusting it to the celestial geometry\, thereby becoming in sync with the existence and naturally achieving a chemistry of healthfulness\, joyfulness\, blissfulness\, and above all\, balance. \nIsha teaches a select set of 21 Yogasanas\, which provide countless benefits including:\n Relief of chronic health conditions \n Evolution of body and mind towards a higher possibility \n Stabilization of the body\, mind\, and energy system \n Deceleration of the aging process \n  \nAge: 14yrs + \n\nREVIEW & RETAKE is for those who have already done Isha Yogasana before.\nYogasanas RETAKE:\nIncase you have not been practicing Yogasanas regularly then this class is best for you to attend.\nFee: $100.00\nYogasanas REVIEW:\nIf you have been practicing regularly & wish to fine tune your practice then this class will be great for you.\nFee: $50.00\n\nEmpty Stomach Conditions:\nDue to the nature of the practices\, please ensure you finish : \n\nany heavy meal at least 4 hrs before the class\nsnack 2.5 hrs before\, &\nbeverage atleast 1.5 hrs before the session.\n\n  \nYou can watch video about Yogasanas here>>
URL:https://yoganebula.com/hatha/event/new-jersey-yogasanas/
LOCATION:Holiday Inn – New Jersey\, 4701 Stelton Rd\, South Plainfield\, NJ\, 07080\, United States
CATEGORIES:Inner Well-Being,New Jersey,Workshop,Yogasanas
END:VEVENT
BEGIN:VEVENT
DTSTART;TZID=America/New_York:20171216T083000
DTEND;TZID=America/New_York:20171216T193000
DTSTAMP:20260423T135417
CREATED:20170916T143843Z
LAST-MODIFIED:20171224T191035Z
UID:2836-1513413000-1513452600@yoganebula.com
SUMMARY:NYC: Surya Kriya
DESCRIPTION:Surya Kriya is a potent yogic practice of tremendous antiquity\, designed as a holistic process for health\, wellness\, and complete inner well-being. “Surya” means “sun\,” and “kriya” means “inner energy process.” Surya Kriya activates the solar plexus to raise the samat prana\, or solar heat\, in the system. It also balances a person’s left and right energy channels\, leading to stability of the body and stillness of the mind. This strong foundation becomes the basis to explore higher dimensions of life. \nTraditionally available only to select groups of yogis\, Surya Kriya is being offered by Sadhguru as a comprehensive spiritual practice that is ideal for the hectic pace of today’s world. \n  \nSurya Kriya includes several aspects that enrich one’s life: \n Develops mental clarity and focus \n Remedies weak constitutions \n Boosts vigor and vitality \n Balances hormonal levels in the body \n Prepares one for deeper states of meditation \n  \nEmpty Stomach Conditions:\nDue to the nature of the practices\, please ensure you finish : \n\nany heavy meal at least 4 hrs before the class\nsnack 2.5 hrs before\, &\nbeverage atleast 1.5 hrs before the session.
URL:https://yoganebula.com/hatha/event/nyc-surya-kriya/
LOCATION:Lucid Body House – New York City\, 230 Lexington Ave\, New York\, NY\, 10016\, United States
CATEGORIES:Exceed Yourself,Inner Well-Being,New York,Surya Kriya,Workshop
ATTACH;FMTTYPE=image/jpeg:https://yoganebula.com/hatha/wp-content/uploads/2017/07/IMG_1756.jpg
END:VEVENT
BEGIN:VEVENT
DTSTART;TZID=UTC:20170903T080000
DTEND;TZID=UTC:20170903T120000
DTSTAMP:20260423T135417
CREATED:20150211T150026Z
LAST-MODIFIED:20170821T072511Z
UID:2061-1504425600-1504440000@yoganebula.com
SUMMARY:NYC: Surya Kriya
DESCRIPTION:Surya Kriya is a potent yogic practice of tremendous antiquity\, designed as a holistic process for health\, wellness\, and complete inner well-being. “Surya” means “sun\,” and “kriya” means “inner energy process.” Surya Kriya activates the solar plexus to raise the samat prana\, or solar heat\, in the system. It also balances a person’s left and right energy channels\, leading to stability of the body and stillness of the mind. This strong foundation becomes the basis to explore higher dimensions of life. \nTraditionally available only to select groups of yogis\, Surya Kriya is being offered by Sadhguru as a comprehensive spiritual practice that is ideal for the hectic pace of today’s world. \n  \nSurya Kriya includes several aspects that enrich one’s life: \n Develops mental clarity and focus \n Remedies weak constitutions \n Boosts vigor and vitality \n Balances hormonal levels in the body \n Prepares one for deeper states of meditation \n  \nEmpty Stomach Conditions:\nDue to the nature of the practices\, please ensure you finish : \n\nany heavy meal at least 4 hrs before the class\nsnack 2.5 hrs before\, &\nbeverage atleast 1.5 hrs before the session.
URL:https://yoganebula.com/hatha/event/surya-kriya-new-york/
LOCATION:Lucid Body House – New York City\, 230 Lexington Ave\, New York\, NY\, 10016\, United States
CATEGORIES:Balance Elements,Inner Well-Being,New York,Workshop
ATTACH;FMTTYPE=image/jpeg:https://yoganebula.com/hatha/wp-content/uploads/2015/02/sun.jpg
END:VEVENT
BEGIN:VEVENT
DTSTART;TZID=America/New_York:20170730T083000
DTEND;TZID=America/New_York:20170730T213000
DTSTAMP:20260423T135417
CREATED:20150211T143259Z
LAST-MODIFIED:20170821T081207Z
UID:2039-1501403400-1501450200@yoganebula.com
SUMMARY:NJ: Fire-Up The Sun - Surya Kriya
DESCRIPTION:Surya Kriya is a potent yogic practice of tremendous antiquity\, designed as a holistic process for health\, wellness\, and complete inner well-being. “Surya” means “sun\,” and “kriya” means “inner energy process.” Surya Kriya activates the solar plexus to raise the samat prana\, or solar heat\, in the system. It also balances a person’s left and right energy channels\, leading to stability of the body and stillness of the mind. This strong foundation becomes the basis to explore higher dimensions of life. \nTraditionally available only to select groups of yogis\, Surya Kriya is being offered by Sadhguru as a comprehensive spiritual practice that is ideal for the hectic pace of today’s world. \n  \nSurya Kriya includes several aspects that enrich one’s life: \n Develops mental clarity and focus \n Remedies weak constitutions \n Boosts vigor and vitality \n Balances hormonal levels in the body \n Prepares one for deeper states of meditation \n  \nEmpty Stomach Conditions:\nDue to the nature of the practices\, please ensure you finish : \n\nany heavy meal at least 4 hrs before the class\nsnack 2.5 hrs before\, &\nbeverage atleast 1.5 hrs before the session.
URL:https://yoganebula.com/hatha/event/surya-kriya-new-jersey/
LOCATION:Holiday Inn – New Jersey\, 4701 Stelton Rd\, South Plainfield\, NJ\, 07080\, United States
CATEGORIES:Inner Well-Being,New Jersey,Workshop
ATTACH;FMTTYPE=image/jpeg:https://yoganebula.com/hatha/wp-content/uploads/2015/02/sun.jpg
END:VEVENT
END:VCALENDAR