BEGIN:VCALENDAR
VERSION:2.0
PRODID:-//YOGA NEBULA - ECPv6.15.20//NONSGML v1.0//EN
CALSCALE:GREGORIAN
METHOD:PUBLISH
X-ORIGINAL-URL:https://yoganebula.com/hatha
X-WR-CALDESC:Events for YOGA NEBULA
REFRESH-INTERVAL;VALUE=DURATION:PT1H
X-Robots-Tag:noindex
X-PUBLISHED-TTL:PT1H
BEGIN:VTIMEZONE
TZID:America/New_York
BEGIN:DAYLIGHT
TZOFFSETFROM:-0500
TZOFFSETTO:-0400
TZNAME:EDT
DTSTART:20240310T070000
END:DAYLIGHT
BEGIN:STANDARD
TZOFFSETFROM:-0400
TZOFFSETTO:-0500
TZNAME:EST
DTSTART:20241103T060000
END:STANDARD
BEGIN:DAYLIGHT
TZOFFSETFROM:-0500
TZOFFSETTO:-0400
TZNAME:EDT
DTSTART:20250309T070000
END:DAYLIGHT
BEGIN:STANDARD
TZOFFSETFROM:-0400
TZOFFSETTO:-0500
TZNAME:EST
DTSTART:20251102T060000
END:STANDARD
BEGIN:DAYLIGHT
TZOFFSETFROM:-0500
TZOFFSETTO:-0400
TZNAME:EDT
DTSTART:20260308T070000
END:DAYLIGHT
BEGIN:STANDARD
TZOFFSETFROM:-0400
TZOFFSETTO:-0500
TZNAME:EST
DTSTART:20261101T060000
END:STANDARD
END:VTIMEZONE
BEGIN:VEVENT
DTSTART;TZID=America/New_York:20250525T080000
DTEND;TZID=America/New_York:20250525T210000
DTSTAMP:20260424T033555
CREATED:20221103T200129Z
LAST-MODIFIED:20250515T152141Z
UID:62553-1748160000-1748206800@yoganebula.com
SUMMARY:Angamardhana - May 2025
DESCRIPTION:Please register before May-1st as seats are limited.\nOnce you register\, you would receive an email to complete the next steps.\n\n  \nAngamardana\, a fitness system rooted in yoga\, offers everyone the opportunity to invigorate the body and reach peak physical and mental health. “Angamardana” means gaining complete mastery over the limbs\, organs\, and other parts of the body. True to its name\, this practice revitalizes the body on all levels including the muscles\, circulatory system\, skeletal structure\, nervous system\, and the basic energy system. \nWith exercises carefully selected by Sadhguru to be of universal appeal and application\, Angamardana needs no fitness equipment. It uses only the body and can be practiced anywhere\, even during travel. \n  \nRegular practice of Angamardana revitalizes the body in many ways:\n\nStrengthens the spine\, skeletal system\, and muscular system\nBuilds physical strength\, fitness\, and tenacity\nTakes years off the body\, bringing a sense of lightness and freedom\nPrepares the body for Hatha Yoga\n\n  \nEligibility:\nFor ages 14+. \nImportant Note:\nDue to the nature of this practice\, there are a some contraindications. People who fall under any of the below categories are not eligible to participate at this time \n\n– Women who are currently pregnant\n– Anyone who has had a major open surgery in the last 6 months\n– Anyone who has had a laparoscopic surgery in the last 6 weeks\n\n  \nEmpty Stomach Conditions:\nDue to the nature of the practices\, please ensure you finish : \n\nany heavy meal at least 4 hrs before the class\nsnack 2.5 hrs before\, &\nbeverage atleast 1.5 hrs before the session.\n\n\n[vfb id=’27’]
URL:https://yoganebula.com/hatha/event/angamardhana-april-2023/
LOCATION:Hillsborough\, Opposite Country Classics Fields\, Hillsborough\, NJ\, 08844\, United States
CATEGORIES:Fitness Challenge,New Jersey
ATTACH;FMTTYPE=image/jpeg:https://yoganebula.com/hatha/wp-content/uploads/2024/06/Anga-1.jpg
END:VEVENT
END:VCALENDAR