BEGIN:VCALENDAR
VERSION:2.0
PRODID:-//YOGA NEBULA - ECPv6.15.20//NONSGML v1.0//EN
CALSCALE:GREGORIAN
METHOD:PUBLISH
X-WR-CALNAME:YOGA NEBULA
X-ORIGINAL-URL:https://yoganebula.com/hatha
X-WR-CALDESC:Events for YOGA NEBULA
REFRESH-INTERVAL;VALUE=DURATION:PT1H
X-Robots-Tag:noindex
X-PUBLISHED-TTL:PT1H
BEGIN:VTIMEZONE
TZID:America/New_York
BEGIN:DAYLIGHT
TZOFFSETFROM:-0500
TZOFFSETTO:-0400
TZNAME:EDT
DTSTART:20240310T070000
END:DAYLIGHT
BEGIN:STANDARD
TZOFFSETFROM:-0400
TZOFFSETTO:-0500
TZNAME:EST
DTSTART:20241103T060000
END:STANDARD
BEGIN:DAYLIGHT
TZOFFSETFROM:-0500
TZOFFSETTO:-0400
TZNAME:EDT
DTSTART:20250309T070000
END:DAYLIGHT
BEGIN:STANDARD
TZOFFSETFROM:-0400
TZOFFSETTO:-0500
TZNAME:EST
DTSTART:20251102T060000
END:STANDARD
BEGIN:DAYLIGHT
TZOFFSETFROM:-0500
TZOFFSETTO:-0400
TZNAME:EDT
DTSTART:20260308T070000
END:DAYLIGHT
BEGIN:STANDARD
TZOFFSETFROM:-0400
TZOFFSETTO:-0500
TZNAME:EST
DTSTART:20261101T060000
END:STANDARD
END:VTIMEZONE
BEGIN:VEVENT
DTSTART;TZID=America/New_York:20251226T193000
DTEND;TZID=America/New_York:20251226T210000
DTSTAMP:20260423T184119
CREATED:20220930T154517Z
LAST-MODIFIED:20251221T215724Z
UID:60856-1766777400-1766782800@yoganebula.com
SUMMARY:Bhuta Shuddhi
DESCRIPTION:Interested participants must complete REGISTRATION at earliest since seats are limited \n  \n\nOnce you attend this Bhuta Shuddhi Workshop\, you will be equipped with a 10-minutes take home practice for life.\n\nThe basis for all creation\, including the physical body\, is the group of five elements: earth\, water\, wind\, fire\, and space. The wellbeing of the body and mind can be established by purifying these five elements within the human system. This process also shapes the body into a stepping stone towards one’s ultimate wellbeing. \nThere is a whole system of yoga called Bhuta Shuddhi\, which means “purification of the elements.”  The Bhuta Shuddhi processes offered by Isha provide a unique opportunity for everyone to benefit from this esoteric yogic science\, which otherwise requires intense sadhana (spiritual practices). \n  \nBhuta Shuddhi: \n\nKeeps the system in harmony and balance\nPrepares the system to handle powerful states of energy\nEnhances the capabilities of the physical body\, mind\, and energy system\nCreates the basis to gain complete mastery over the human system\n\n 
URL:https://yoganebula.com/hatha/event/bhuta-shuddhi-nov-2025/
LOCATION:Hillsborough\, Opposite Country Classics Fields\, Hillsborough\, NJ\, 08844\, United States
CATEGORIES:Balance Elements,New Jersey,Workshop
ATTACH;FMTTYPE=image/jpeg:https://yoganebula.com/hatha/wp-content/uploads/2024/06/BhutaSHuddhi.jpg
END:VEVENT
END:VCALENDAR